BEGIN:VCALENDAR
VERSION:2.0
PRODID:-//Bejeweled by BowEchoMedia - ECPv6.15.20//NONSGML v1.0//EN
CALSCALE:GREGORIAN
METHOD:PUBLISH
X-WR-CALNAME:Bejeweled by BowEchoMedia
X-ORIGINAL-URL:https://bejeweledbybem.com
X-WR-CALDESC:Events for Bejeweled by BowEchoMedia
REFRESH-INTERVAL;VALUE=DURATION:PT1H
X-Robots-Tag:noindex
X-PUBLISHED-TTL:PT1H
BEGIN:VTIMEZONE
TZID:America/Chicago
BEGIN:DAYLIGHT
TZOFFSETFROM:-0600
TZOFFSETTO:-0500
TZNAME:CDT
DTSTART:20250309T080000
END:DAYLIGHT
BEGIN:STANDARD
TZOFFSETFROM:-0500
TZOFFSETTO:-0600
TZNAME:CST
DTSTART:20251102T070000
END:STANDARD
BEGIN:DAYLIGHT
TZOFFSETFROM:-0600
TZOFFSETTO:-0500
TZNAME:CDT
DTSTART:20260308T080000
END:DAYLIGHT
BEGIN:STANDARD
TZOFFSETFROM:-0500
TZOFFSETTO:-0600
TZNAME:CST
DTSTART:20261101T070000
END:STANDARD
BEGIN:DAYLIGHT
TZOFFSETFROM:-0600
TZOFFSETTO:-0500
TZNAME:CDT
DTSTART:20270314T080000
END:DAYLIGHT
BEGIN:STANDARD
TZOFFSETFROM:-0500
TZOFFSETTO:-0600
TZNAME:CST
DTSTART:20271107T070000
END:STANDARD
END:VTIMEZONE
BEGIN:VEVENT
DTSTART;TZID=America/Chicago:20260502T100000
DTEND;TZID=America/Chicago:20260502T140000
DTSTAMP:20260423T153951
CREATED:20260420T191517Z
LAST-MODIFIED:20260420T191517Z
UID:3099-1777716000-1777730400@bejeweledbybem.com
SUMMARY:Bejeweled at Tarkington Spring Craft Fair
DESCRIPTION:Save the Date! Bejeweled at Tarkington Spring Craft Fair\nJoin us for a fun\, family-friendly community craft fair on May 2nd from 10–2!\nShop 40+ local vendors featuring handmade goods\, unique gifts\, and one-of-a-kind finds—including a few talented student entrepreneurs as they showcase their creations \n Perfect for Mother’s Day\, teacher gifts\, and grads Free admission Raffle prizes Food trucks on-site for lunch\nBring a friend\, come hungry\, and enjoy a day of shopping\, connection\, and supporting local!
URL:https://bejeweledbybem.com/event/bejeweled-at-tarkington-spring-craft-fair/
LOCATION:Tarkington Elementary School\, 310 Scott Street\, Wheeling\, IL\, 60090\, United States
END:VEVENT
BEGIN:VEVENT
DTSTART;TZID=America/Chicago:20260509T083000
DTEND;TZID=America/Chicago:20260509T150000
DTSTAMP:20260423T153951
CREATED:20260420T193519Z
LAST-MODIFIED:20260420T193519Z
UID:3102-1778315400-1778338800@bejeweledbybem.com
SUMMARY:Bejeweled at Glenbard East Outdoor Spring Market
DESCRIPTION:Celebrate Lilac Time and support student arts at this vibrant community market featuring over 50 local vendors\, student arts\, and unique Mother’s Day gifts. Enjoy free admission while you shop\, eat local\, and participate in raffles held at every vendor booth. \nHosted by the Glenbard East Fine Arts Boosters (GEFAB)
URL:https://bejeweledbybem.com/event/bejeweled-at-glenbard-east-outdoor-spring-market/
LOCATION:Glenbard East High School\, 1014 S. Main St.\, Lombard\, IL\, 60148\, United States
END:VEVENT
END:VCALENDAR